BEGIN:VCALENDAR
VERSION:2.0
PRODID:-//www.graenichen.ch//NONSGML kigkonsult.se iCalcreator 2.22//
CALSCALE:GREGORIAN
METHOD:PUBLISH
X-WR-TIMEZONE','EUROPE/BERLIN:
BEGIN:VEVENT
UID:20260421T102942CEST-7978MmXp24@www.graenichen.ch
DTSTAMP:20260421T082942Z
DESCRIPTION:Klicken Sie auf den folgenden Link\, um weitere Informationen z
 ur Veranstaltung zu erhalten:\nhttp://www.graenichen.ch/de/veranstaltungen
 /detail/detail.php?i=665
DTSTART:20260513T140000
DTEND:20260513T160000
LOCATION:Schulhausplatz
SUMMARY:Kinderflohmarkt
END:VEVENT
END:VCALENDAR
