BEGIN:VCALENDAR
VERSION:2.0
PRODID:-//www.graenichen.ch//NONSGML kigkonsult.se iCalcreator 2.22//
CALSCALE:GREGORIAN
METHOD:PUBLISH
X-WR-TIMEZONE','EUROPE/BERLIN:
BEGIN:VEVENT
UID:20260421T102830CEST-488836WA4n@www.graenichen.ch
DTSTAMP:20260421T082830Z
DESCRIPTION:Klicken Sie auf den folgenden Link\, um weitere Informationen z
 ur Veranstaltung zu erhalten:\nhttp://www.graenichen.ch/de/veranstaltungen
 /detail/detail.php?i=704
DTSTART:20260905T133000
DTEND:20260905T163000
LOCATION:Treffpunkt Mehrzweckhalle Gränichen
SUMMARY:Schloss Wildegg Gartenführung 'Alte Pflanzen neu entdekt'
END:VEVENT
END:VCALENDAR
