BEGIN:VCALENDAR
VERSION:2.0
PRODID:-//www.graenichen.ch//NONSGML kigkonsult.se iCalcreator 2.22//
CALSCALE:GREGORIAN
METHOD:PUBLISH
X-WR-TIMEZONE','EUROPE/BERLIN:
BEGIN:VEVENT
UID:20260421T102823CEST-5869dZKfAn@www.graenichen.ch
DTSTAMP:20260421T082823Z
DESCRIPTION:Klicken Sie auf den folgenden Link\, um weitere Informationen z
 ur Veranstaltung zu erhalten:\nhttp://www.graenichen.ch/de/veranstaltungen
 /detail/detail.php?i=706
DTSTART:20260911T080000
DTEND:20260913T170000
LOCATION:Bikelehrpfad
SUMMARY:MTB Rennen
END:VEVENT
END:VCALENDAR
