BEGIN:VCALENDAR
VERSION:2.0
PRODID:-//www.graenichen.ch//NONSGML kigkonsult.se iCalcreator 2.22//
CALSCALE:GREGORIAN
METHOD:PUBLISH
X-WR-TIMEZONE','EUROPE/BERLIN:
BEGIN:VEVENT
UID:20260421T103148CEST-4300PwGxJp@www.graenichen.ch
DTSTAMP:20260421T083148Z
DESCRIPTION:Klicken Sie auf den folgenden Link\, um weitere Informationen z
 ur Veranstaltung zu erhalten:\nhttp://www.graenichen.ch/de/veranstaltungen
 /detail/detail.php?i=707
DTSTART:20261024T130000
DTEND:20261024T000000
LOCATION:Bikelehrpfad
SUMMARY:Technik Training 
END:VEVENT
END:VCALENDAR
