BEGIN:VCALENDAR
VERSION:2.0
PRODID:-//www.graenichen.ch//NONSGML kigkonsult.se iCalcreator 2.22//
CALSCALE:GREGORIAN
METHOD:PUBLISH
X-WR-TIMEZONE','EUROPE/BERLIN:
BEGIN:VEVENT
UID:20260421T103352CEST-5365CGtkiI@www.graenichen.ch
DTSTAMP:20260421T083352Z
DESCRIPTION:Klicken Sie auf den folgenden Link\, um weitere Informationen z
 ur Veranstaltung zu erhalten:\nhttp://www.graenichen.ch/de/veranstaltungen
 /detail/detail.php?i=715
DTSTART:20260626T000000
LOCATION:Sportanlage
SUMMARY:De schnällst Gränicher
END:VEVENT
END:VCALENDAR
