BEGIN:VCALENDAR
VERSION:2.0
PRODID:-//www.graenichen.ch//NONSGML kigkonsult.se iCalcreator 2.22//
CALSCALE:GREGORIAN
METHOD:PUBLISH
X-WR-TIMEZONE','EUROPE/BERLIN:
BEGIN:VEVENT
UID:20260421T103239CEST-5711HO7fbU@www.graenichen.ch
DTSTAMP:20260421T083239Z
DESCRIPTION:Klicken Sie auf den folgenden Link\, um weitere Informationen z
 ur Veranstaltung zu erhalten:\nhttp://www.graenichen.ch/de/veranstaltungen
 /detail/detail.php?i=717
DTSTART:20261106T000000
DTEND:20261107T000000
LOCATION:Mehrzweckhalle
SUMMARY:Abendunterhaltung 
END:VEVENT
END:VCALENDAR
