BEGIN:VCALENDAR
VERSION:2.0
PRODID:-//www.graenichen.ch//NONSGML kigkonsult.se iCalcreator 2.22//
CALSCALE:GREGORIAN
METHOD:PUBLISH
X-WR-TIMEZONE','EUROPE/BERLIN:
BEGIN:VEVENT
UID:20260421T103147CEST-9251PVdGgc@www.graenichen.ch
DTSTAMP:20260421T083147Z
DESCRIPTION:Klicken Sie auf den folgenden Link\, um weitere Informationen z
 ur Veranstaltung zu erhalten:\nhttp://www.graenichen.ch/de/veranstaltungen
 /detail/detail.php?i=719
DTSTART:20260509T000000
LOCATION:Sportanlagen Gränichen
SUMMARY:Kreis-Cup 2026
END:VEVENT
END:VCALENDAR
