BEGIN:VCALENDAR
VERSION:2.0
PRODID:-//www.graenichen.ch//NONSGML kigkonsult.se iCalcreator 2.22//
CALSCALE:GREGORIAN
METHOD:PUBLISH
X-WR-TIMEZONE','EUROPE/BERLIN:
BEGIN:VEVENT
UID:20260421T103234CEST-4751b3O1Vz@www.graenichen.ch
DTSTAMP:20260421T083234Z
DESCRIPTION:Klicken Sie auf den folgenden Link\, um weitere Informationen z
 ur Veranstaltung zu erhalten:\nhttp://www.graenichen.ch/de/veranstaltungen
 /detail/detail.php?i=726
DTSTART:20261021T160000
DTEND:20261021T200000
LOCATION:Mehrzweckhalle
SUMMARY:Blutspenden 
END:VEVENT
END:VCALENDAR
