BEGIN:VCALENDAR
VERSION:2.0
PRODID:-//www.graenichen.ch//NONSGML kigkonsult.se iCalcreator 2.22//
CALSCALE:GREGORIAN
METHOD:PUBLISH
X-WR-TIMEZONE','EUROPE/BERLIN:
BEGIN:VEVENT
UID:20260421T102822CEST-7664oHOdP3@www.graenichen.ch
DTSTAMP:20260421T082822Z
DESCRIPTION:Klicken Sie auf den folgenden Link\, um weitere Informationen z
 ur Veranstaltung zu erhalten:\nhttp://www.graenichen.ch/de/veranstaltungen
 /detail/detail.php?i=728
DTSTART:20260919T080000
DTEND:20260919T150000
LOCATION:Vereinsraum 
SUMMARY:Nothilfekurs II
END:VEVENT
END:VCALENDAR
