BEGIN:VCALENDAR
VERSION:2.0
PRODID:-//www.graenichen.ch//NONSGML kigkonsult.se iCalcreator 2.22//
CALSCALE:GREGORIAN
METHOD:PUBLISH
X-WR-TIMEZONE','EUROPE/BERLIN:
BEGIN:VEVENT
UID:20260421T103238CEST-73152k0L8L@www.graenichen.ch
DTSTAMP:20260421T083238Z
DESCRIPTION:Klicken Sie auf den folgenden Link\, um weitere Informationen z
 ur Veranstaltung zu erhalten:\nhttp://www.graenichen.ch/de/veranstaltungen
 /detail/detail.php?i=731
DTSTART:20260905T080000
DTEND:20260905T110000
LOCATION:Treffpunkt: Ballyplatz
SUMMARY:Rangerführung Hallwilersee
END:VEVENT
END:VCALENDAR
