BEGIN:VCALENDAR
VERSION:2.0
PRODID:-//www.graenichen.ch//NONSGML kigkonsult.se iCalcreator 2.22//
CALSCALE:GREGORIAN
METHOD:PUBLISH
X-WR-TIMEZONE','EUROPE/BERLIN:
BEGIN:VEVENT
UID:20260421T103134CEST-5273F65v9a@www.graenichen.ch
DTSTAMP:20260421T083134Z
DESCRIPTION:Klicken Sie auf den folgenden Link\, um weitere Informationen z
 ur Veranstaltung zu erhalten:\nhttp://www.graenichen.ch/de/veranstaltungen
 /detail/detail.php?i=732
DTSTART:20260919T090000
DTEND:20260919T120000
LOCATION:Werkhof Moortal
SUMMARY:Weiherpflege
END:VEVENT
END:VCALENDAR
