BEGIN:VCALENDAR
VERSION:2.0
PRODID:-//www.graenichen.ch//NONSGML kigkonsult.se iCalcreator 2.22//
CALSCALE:GREGORIAN
METHOD:PUBLISH
X-WR-TIMEZONE','EUROPE/BERLIN:
BEGIN:VEVENT
UID:20260421T103238CEST-87589vzpor@www.graenichen.ch
DTSTAMP:20260421T083238Z
DESCRIPTION:Klicken Sie auf den folgenden Link\, um weitere Informationen z
 ur Veranstaltung zu erhalten:\nhttp://www.graenichen.ch/de/veranstaltungen
 /detail/detail.php?i=734
DTSTART:20261017T000000
DTEND:20261031T000000
LOCATION:Dorfzentrum Linde 
SUMMARY:Wanderausstellung 'Ökologische Infrastruktur'
END:VEVENT
END:VCALENDAR
