BEGIN:VCALENDAR
VERSION:2.0
PRODID:-//www.graenichen.ch//NONSGML kigkonsult.se iCalcreator 2.22//
CALSCALE:GREGORIAN
METHOD:PUBLISH
X-WR-TIMEZONE','EUROPE/BERLIN:
BEGIN:VEVENT
UID:20260421T103011CEST-4011Kkjvar@www.graenichen.ch
DTSTAMP:20260421T083011Z
DESCRIPTION:Klicken Sie auf den folgenden Link\, um weitere Informationen z
 ur Veranstaltung zu erhalten:\nhttp://www.graenichen.ch/de/veranstaltungen
 /detail/detail.php?i=738
DTSTART:20261122T000000
LOCATION:Kirche Gränichen
SUMMARY:Kirchenkonzert 
END:VEVENT
END:VCALENDAR
