BEGIN:VCALENDAR
VERSION:2.0
PRODID:-//www.graenichen.ch//NONSGML kigkonsult.se iCalcreator 2.22//
CALSCALE:GREGORIAN
METHOD:PUBLISH
X-WR-TIMEZONE','EUROPE/BERLIN:
BEGIN:VEVENT
UID:20260421T103106CEST-720311usgD@www.graenichen.ch
DTSTAMP:20260421T083106Z
DESCRIPTION:Klicken Sie auf den folgenden Link\, um weitere Informationen z
 ur Veranstaltung zu erhalten:\nhttp://www.graenichen.ch/de/veranstaltungen
 /detail/detail.php?i=747
DTSTART:20261129T140000
DTEND:20261129T170000
LOCATION:Museum Chornhuus
SUMMARY:Museum Chornhuus geöffnet
END:VEVENT
END:VCALENDAR
