BEGIN:VCALENDAR
VERSION:2.0
PRODID:-//www.graenichen.ch//NONSGML kigkonsult.se iCalcreator 2.22//
CALSCALE:GREGORIAN
METHOD:PUBLISH
X-WR-TIMEZONE','EUROPE/BERLIN:
BEGIN:VEVENT
UID:20260421T103106CEST-4559eDcvK7@www.graenichen.ch
DTSTAMP:20260421T083106Z
DESCRIPTION:Klicken Sie auf den folgenden Link\, um weitere Informationen z
 ur Veranstaltung zu erhalten:\nhttp://www.graenichen.ch/de/veranstaltungen
 /detail/detail.php?i=759
DTSTART:20261112T000000
DTEND:20261115T000000
LOCATION:Mehrzweckhalle und Sporthallen 1-3
SUMMARY:Gewerbeausstellung 2026
END:VEVENT
END:VCALENDAR
