BEGIN:VCALENDAR
VERSION:2.0
PRODID:-//www.graenichen.ch//NONSGML kigkonsult.se iCalcreator 2.22//
CALSCALE:GREGORIAN
METHOD:PUBLISH
X-WR-TIMEZONE','EUROPE/BERLIN:
BEGIN:VEVENT
UID:20260421T103510CEST-0132Dwu3Cj@www.graenichen.ch
DTSTAMP:20260421T083510Z
DESCRIPTION:Klicken Sie auf den folgenden Link\, um weitere Informationen z
 ur Veranstaltung zu erhalten:\nhttp://www.graenichen.ch/de/veranstaltungen
 /detail/detail.php?i=760
DTSTART:20260321T090000
DTEND:20260321T120000
LOCATION:Seminarraum Werkhof Moortal\, Gränichen
SUMMARY:Tag gegen Rassismus 
END:VEVENT
END:VCALENDAR
