BEGIN:VCALENDAR
VERSION:2.0
PRODID:-//www.graenichen.ch//NONSGML kigkonsult.se iCalcreator 2.22//
CALSCALE:GREGORIAN
METHOD:PUBLISH
X-WR-TIMEZONE','EUROPE/BERLIN:
BEGIN:VEVENT
UID:20260421T103010CEST-4235u9j9Zr@www.graenichen.ch
DTSTAMP:20260421T083010Z
DESCRIPTION:Klicken Sie auf den folgenden Link\, um weitere Informationen z
 ur Veranstaltung zu erhalten:\nhttp://www.graenichen.ch/de/veranstaltungen
 /detail/detail.php?i=781
DTSTART:20261121T100000
DTEND:20261121T160000
LOCATION:Mehrzweckhalle
SUMMARY:Ladies Day Gränichen
END:VEVENT
END:VCALENDAR
