BEGIN:VCALENDAR
VERSION:2.0
PRODID:-//www.graenichen.ch//NONSGML kigkonsult.se iCalcreator 2.22//
CALSCALE:GREGORIAN
METHOD:PUBLISH
X-WR-TIMEZONE','EUROPE/BERLIN:
BEGIN:VEVENT
UID:20260423T110040CEST-9799CVxUp7@www.graenichen.ch
DTSTAMP:20260423T090040Z
DESCRIPTION:Klicken Sie auf den folgenden Link\, um weitere Informationen z
 ur Veranstaltung zu erhalten:\nhttp://www.graenichen.ch/de/veranstaltungen
 /detail/detail.php?i=782
DTSTART:20270306T100000
DTEND:20270306T160000
LOCATION:Mehrzweckhalle 
SUMMARY:Ladies Day Gränichen
END:VEVENT
END:VCALENDAR
