BEGIN:VCALENDAR
VERSION:2.0
PRODID:-//www.graenichen.ch//NONSGML kigkonsult.se iCalcreator 2.22//
CALSCALE:GREGORIAN
METHOD:PUBLISH
X-WR-TIMEZONE','EUROPE/BERLIN:
BEGIN:VEVENT
UID:20260423T110026CEST-79908gWtP7@www.graenichen.ch
DTSTAMP:20260423T090026Z
DESCRIPTION:Klicken Sie auf den folgenden Link\, um weitere Informationen z
 ur Veranstaltung zu erhalten:\nhttp://www.graenichen.ch/de/veranstaltungen
 /detail/detail.php?i=785
DTSTART:20260606T000000
DTEND:20260607T000000
LOCATION:Sporthallen / Sportplatz
SUMMARY:Aargauer Meisterschaften Vereinsturnen 
END:VEVENT
END:VCALENDAR
